BEGIN:VCALENDAR
VERSION:2.0
PRODID:-//Hunger Task Force of La Crosse, Inc. - ECPv6.15.18//NONSGML v1.0//EN
CALSCALE:GREGORIAN
METHOD:PUBLISH
X-ORIGINAL-URL:https://lacrossehtf.org
X-WR-CALDESC:Events for Hunger Task Force of La Crosse, Inc.
REFRESH-INTERVAL;VALUE=DURATION:PT1H
X-Robots-Tag:noindex
X-PUBLISHED-TTL:PT1H
BEGIN:VTIMEZONE
TZID:America/Chicago
BEGIN:DAYLIGHT
TZOFFSETFROM:-0600
TZOFFSETTO:-0500
TZNAME:CDT
DTSTART:20240310T080000
END:DAYLIGHT
BEGIN:STANDARD
TZOFFSETFROM:-0500
TZOFFSETTO:-0600
TZNAME:CST
DTSTART:20241103T070000
END:STANDARD
BEGIN:DAYLIGHT
TZOFFSETFROM:-0600
TZOFFSETTO:-0500
TZNAME:CDT
DTSTART:20250309T080000
END:DAYLIGHT
BEGIN:STANDARD
TZOFFSETFROM:-0500
TZOFFSETTO:-0600
TZNAME:CST
DTSTART:20251102T070000
END:STANDARD
BEGIN:DAYLIGHT
TZOFFSETFROM:-0600
TZOFFSETTO:-0500
TZNAME:CDT
DTSTART:20260308T080000
END:DAYLIGHT
BEGIN:STANDARD
TZOFFSETFROM:-0500
TZOFFSETTO:-0600
TZNAME:CST
DTSTART:20261101T070000
END:STANDARD
END:VTIMEZONE
BEGIN:VEVENT
DTSTART;VALUE=DATE:20250510
DTEND;VALUE=DATE:20250511
DTSTAMP:20260420T060306
CREATED:20250315T153338Z
LAST-MODIFIED:20250327T120812Z
UID:3212-1746835200-1746921599@lacrossehtf.org
SUMMARY:Letter Carriers' Food Drive
DESCRIPTION:The 33rd Annual Letter Carriers’ Food Drive is Saturday\, May 10th! \nDonations from the drive stay local and help hunger programs like The Hunger Task Force and ensures shelves are stocked before the increase in summer demand. There are two ways you can help – Donate & Volunteer. \nDonate – Place your non-perishable canned food items (please no glass\, it can break when being collected) near your mailbox on Saturday\, May 10th by 8 am. Fabulous volunteers will collect the food items. \n  \nVolunteer – Do you have a few of hours to spare and want to make a huge impact in your community? Sign up your driving team today! Volunteers work in partner teams to collect food on along specific mail routes\, a head of letter carriers.  This will ensure as many donations as possible are picked up by volunteers\, rather than Letter Carriers\, who are also delivering mail this day.  Shifts run 8 am to approximately 2 pm.  To sign up or learn more go to:  Letter Carriers’ Food Drive – Driving Teams \n 
URL:https://lacrossehtf.org/event/letter-carriers-food-drive/
LOCATION:WI
ATTACH;FMTTYPE=image/png:https://lacrossehtf.org/wp-content/uploads/2025/03/Website-Events-1.png
END:VEVENT
END:VCALENDAR