BEGIN:VCALENDAR
VERSION:2.0
PRODID:-//Hunger Task Force of La Crosse, Inc. - ECPv6.15.18//NONSGML v1.0//EN
CALSCALE:GREGORIAN
METHOD:PUBLISH
X-ORIGINAL-URL:https://lacrossehtf.org
X-WR-CALDESC:Events for Hunger Task Force of La Crosse, Inc.
REFRESH-INTERVAL;VALUE=DURATION:PT1H
X-Robots-Tag:noindex
X-PUBLISHED-TTL:PT1H
BEGIN:VTIMEZONE
TZID:America/Chicago
BEGIN:DAYLIGHT
TZOFFSETFROM:-0600
TZOFFSETTO:-0500
TZNAME:CDT
DTSTART:20240310T080000
END:DAYLIGHT
BEGIN:STANDARD
TZOFFSETFROM:-0500
TZOFFSETTO:-0600
TZNAME:CST
DTSTART:20241103T070000
END:STANDARD
BEGIN:DAYLIGHT
TZOFFSETFROM:-0600
TZOFFSETTO:-0500
TZNAME:CDT
DTSTART:20250309T080000
END:DAYLIGHT
BEGIN:STANDARD
TZOFFSETFROM:-0500
TZOFFSETTO:-0600
TZNAME:CST
DTSTART:20251102T070000
END:STANDARD
BEGIN:DAYLIGHT
TZOFFSETFROM:-0600
TZOFFSETTO:-0500
TZNAME:CDT
DTSTART:20260308T080000
END:DAYLIGHT
BEGIN:STANDARD
TZOFFSETFROM:-0500
TZOFFSETTO:-0600
TZNAME:CST
DTSTART:20261101T070000
END:STANDARD
END:VTIMEZONE
BEGIN:VEVENT
DTSTART;TZID=America/Chicago:20250814T160000
DTEND;TZID=America/Chicago:20250814T170000
DTSTAMP:20260420T060143
CREATED:20250321T154721Z
LAST-MODIFIED:20250321T155052Z
UID:3249-1755187200-1755190800@lacrossehtf.org
SUMMARY:Garden Workshop - Hot Sauces
DESCRIPTION:Hot Sauce Workshop\nThursday\, August 14th 4:00 – 5:00 pm\nGarden Terrace Community Center – 809 Kane Street \nDavid Schipper will teach you the art of making your own hot sauce! Whether you’re a heat enthusiast or just curious about crafting your condiments\, this workshop is perfect for all spice levels.Peppers used for this workshop will be grown at the garden.
URL:https://lacrossehtf.org/event/garden-workshop-hot-sauces/
LOCATION:WI
ATTACH;FMTTYPE=image/jpeg:https://lacrossehtf.org/wp-content/uploads/2025/03/476459667_1003981958443004_6177462196419307513_n.jpg
END:VEVENT
END:VCALENDAR